BEGIN:VCALENDAR
VERSION:2.0
PRODID:-//BusSi - ECPv5.3.1//NONSGML v1.0//EN
CALSCALE:GREGORIAN
METHOD:PUBLISH
X-WR-CALNAME:BusSi
X-ORIGINAL-URL:https://www.bussi.org.au
X-WR-CALDESC:Events for BusSi
BEGIN:VTIMEZONE
TZID:UTC
BEGIN:STANDARD
TZOFFSETFROM:+0000
TZOFFSETTO:+0000
TZNAME:UTC
DTSTART:20210101T000000
END:STANDARD
END:VTIMEZONE
BEGIN:VEVENT
DTSTART;TZID=UTC:20210309T100000
DTEND;TZID=UTC:20210309T110000
DTSTAMP:20210301T033600
CREATED:20210210T012116Z
LAST-MODIFIED:20210210T012116Z
UID:2765-1615284000-1615287600@www.bussi.org.au
SUMMARY:Female Founders Connect
DESCRIPTION:Celebrate International Women’s Day with the Canberra Innovation Network!\nJoin us for morning tea and networking to kick off our Female Founders program for 2021. We have a fantastic calendar of events to share with you. \nThere will be an opportunity to do a 60 second pitch to the group about your business and what you are up to. (Entirely optional!) \nWe welcome all women in business who are interested in innovation and entrepreneurship. \nFAQ\nWhat about COVID-19?\nWe are following the ACT Government’s advice on events and will have a very limited capacity. Please ensure you have the Check In CBR app installed. \nThis screening tool is used to decide if it is safe for you to attend this event. If you get a red tick\, please to not attend. \nDue to the current state of COVID-19 in Australia\, this event may be cancelled with short notice. We will email all registered participants and update ur social media to reflect any changes. \nCan I pitch?\nYes! In the registration form you can put your name down for a 60 second pitch. \nWhat parking is available?\nParking is available at the City West Carpark\, located on Allsop Street. There is also limited street parking around the building. \nWhere are you located?\nFind us at Level 5\, 1 Moore Street (City Community Health Building) on the corner of Alinga and Moore Street. \nHow can I find out about more events like this?\nSubscribe to our Newsletter to keep up to date with innovation news and events. \n\nThis event is a woman-focused event that intends an inclusive definition of women. We welcome trans women\, nonbinary\, gender non-conforming\, and anyone who identifies as a woman in a way that is significant to them. 
URL:https://www.bussi.org.au/event/female-founders-connect/
LOCATION:Canberra Innovation Network Level 5\, 1 Moore St\, Canberra ACT 2601\, Canberra Innovation Network Level 5\, 1 Moore St\, Canberra\, ACT\, 2601\, Australia
ATTACH;FMTTYPE=image/jpeg:https://www.bussi.org.au/wp-content/uploads/2021/02/Female-Founders-Design-V2.jpg
END:VEVENT
END:VCALENDAR