BEGIN:VCALENDAR
VERSION:2.0
PRODID:-//BusSi - ECPv5.3.1//NONSGML v1.0//EN
CALSCALE:GREGORIAN
METHOD:PUBLISH
X-WR-CALNAME:BusSi
X-ORIGINAL-URL:https://www.bussi.org.au
X-WR-CALDESC:Events for BusSi
BEGIN:VTIMEZONE
TZID:UTC
BEGIN:STANDARD
TZOFFSETFROM:+0000
TZOFFSETTO:+0000
TZNAME:UTC
DTSTART:20200101T000000
END:STANDARD
END:VTIMEZONE
BEGIN:VEVENT
DTSTART;TZID=UTC:20201021T180000
DTEND;TZID=UTC:20201021T200000
DTSTAMP:20210301T040856
CREATED:20200916T033454Z
LAST-MODIFIED:20200923T010253Z
UID:1868-1603303200-1603310400@www.bussi.org.au
SUMMARY:Goulburn Community Owned Solar Farm Public Meeting
DESCRIPTION:The team at CE4G are excited to announce the dates for an opportunity to invest in clean\, green energy in Goulburn. Come along to their Information Evening on the 21st October from 6pm at the Goulburn Worker’s Club. Register here. More information about the Solar Farm is available below… \nWHAT?          \n\nA 1.2MW community-owned solar farm with battery backup\n4000 Panels (approximately) sufficient to power 400-500 homes\nBig battery to allow storage of cheap electricity generated in the day to be sold at peak time in the evening\, maximizing revenue and profits\n\nWHY?        \n\nGoulburn community’s contribution to lower carbon emissions\nThe profits stay within the community\nBecause we welcome to opportunity to invest in clean\, green energy\n\nWHERE?   \n\nBridge Street\, off Sydney Road and adjacent to the railway line\n\nGOVT SUPPORT? \n\nYes. A $2.1m grant from the Dept of Planning\, Industry and Environment\n\nTOTAL COST?      \n\n$4.2m\n\nWHEN?   \n\nConstruction to be completed mid 2021\n\nHOW DO I INVEST? \n\nInvestment starts at $400. Go to our website here\, sign up to the mailing list and receive information you will need to make an informed decision\, attend the meetings in October
URL:https://www.bussi.org.au/event/goulburn-community-owned-solar-farm-public-meeting/
LOCATION:Goulburn Workers Club\, 1 McKell Place\, Goulburn\, NSW\, 2580\, Australia
ATTACH;FMTTYPE=image/jpeg:https://www.bussi.org.au/wp-content/uploads/2020/09/logo-medium-text.jpg
END:VEVENT
END:VCALENDAR