BEGIN:VCALENDAR
VERSION:2.0
PRODID:-//BusSi - ECPv5.3.1//NONSGML v1.0//EN
CALSCALE:GREGORIAN
METHOD:PUBLISH
X-WR-CALNAME:BusSi
X-ORIGINAL-URL:https://www.bussi.org.au
X-WR-CALDESC:Events for BusSi
BEGIN:VTIMEZONE
TZID:UTC
BEGIN:STANDARD
TZOFFSETFROM:+0000
TZOFFSETTO:+0000
TZNAME:UTC
DTSTART:20210101T000000
END:STANDARD
END:VTIMEZONE
BEGIN:VEVENT
DTSTART;TZID=UTC:20210317T090000
DTEND;TZID=UTC:20210318T170000
DTSTAMP:20210301T034034
CREATED:20201223T014401Z
LAST-MODIFIED:20201223T014401Z
UID:2694-1615971600-1616086800@www.bussi.org.au
SUMMARY:Regions Rising 2020
DESCRIPTION:More than 9 million people call regional Australia home\, but it has such a big heart and it’s ready to grow. \nThe Regional Australia Institute (RAI) is leading a national movement that builds on momentum already underway to see societal shift in Australia – to help rebalance our population. \nIt’s a big task\, maybe too ambitious for many\, but we know this challenge will ignite a spark in some. They are the people we want to work with. \nJoin us at our National Summit\, Growing Regional Australia – Shaping the Good Life. \nDAY 1: WEDNESDAY 17 MARCH 2021\nConference\n \nDay 1 of the Summit will bring together some of the country’s brightest minds\, with keynote speakers and panellists to present the latest on issues around population trends\, regional migration\, jobs\, education\, health\, climate\, infrastructure and innovation\, as well as local leadership and the economy. \nBacked by our research\, the RAI believes these are the key elements needed to build our National Awareness Campaign to be launched at the Summit – which will promote the opportunities of living in regional Australia. \nDAY 2: THURSDAY 18 MARCH 2021\nMasterclass \nThe Masterclass on Day 2 is your opportunity to learn from the experts about shaping critical policy in Australia. It will be more rigorous and interactive than day 1\, drawing on the key themes and insights gleaned from the conference speakers and panellists. This will be your opportunity to deep dive into a new toolkit we will be releasing!
URL:https://www.bussi.org.au/event/regions-rising-2020/
LOCATION:Hotel Realm\, 18 National Circuit\, Canberra\, ACT\, 2600\, Australia
ATTACH;FMTTYPE=image/jpeg:https://www.bussi.org.au/wp-content/uploads/2020/12/RR_CBR_2020_RAI_Website_Banner_1-2.jpg
END:VEVENT
END:VCALENDAR