BEGIN:VCALENDAR
VERSION:2.0
PRODID:-//BusSi - ECPv5.3.1//NONSGML v1.0//EN
CALSCALE:GREGORIAN
METHOD:PUBLISH
X-WR-CALNAME:BusSi
X-ORIGINAL-URL:https://www.bussi.org.au
X-WR-CALDESC:Events for BusSi
BEGIN:VTIMEZONE
TZID:UTC
BEGIN:STANDARD
TZOFFSETFROM:+0000
TZOFFSETTO:+0000
TZNAME:UTC
DTSTART:20210101T000000
END:STANDARD
END:VTIMEZONE
BEGIN:VEVENT
DTSTART;TZID=UTC:20210323T140000
DTEND;TZID=UTC:20210323T153000
DTSTAMP:20210301T034253
CREATED:20210119T045546Z
LAST-MODIFIED:20210119T045546Z
UID:2717-1616508000-1616513400@www.bussi.org.au
SUMMARY:Research to Impact Webinar
DESCRIPTION:Increase the impact of your research and industry engagement using entrepreneurial methods.\n  \nResearch to Impact is a webinar for researchers (PhD candidates and upwards) to introduce practical tools that help you take your research out of academia\, engage with industry and find new opportunities. \nAs a researcher\, you may be frustrated by the difficulty of finding ways to apply your research or ideas into meaningful results in the real world. The changing landscape has led to career challenges for early stage researchers and lower funding for research team leaders. \nAdvance your projects by upskilling and enabling you to find answers about industry needs\, how you can adapt to make you more prevalent in your field and attract the resources you need to take your projects forward. \nWe use lean innovation methods developed for startups and proven to work for researchers to: \n\nShow you practical new ways to think about innovation that will enable you to better engage the community\nHelp you create real collaborative conversations with industry that can lead to opportunities\nChallenge you with fast-paced real-world tasks\nEmpower you to explore new options for your career\, industry engagement and commercialising your inventions\nGive you new tools to connect and explain your research\n\nProgram Structure\nOver the course of the webinar\, we will cover: \n\nResearch innovation essentials\nFinding need and your big impact\n\n  \nWho can benefit?\nResearchers from masters to senior academics who: \n\nare interested in exploring new ways to have impact or engage externally.\ndon’t have to have a team or a specific invention.\n\nOur Team\nResearch to Impact program is delivered by experienced entrepreneurs that you will have access to as program facilitators and mentors: \n\nDr Craig Davis\, GM Growth Programs\, academic turned entrepreneur\nIrene Zhen\, Growth Programs\n\n  \nFAQs: \nWhere can I find the link to this webinar? \nA Zoom link will be sent to your emails 24 hours before the event. \nDo I need to have a specific idea or invention?No – while we do work with researchers at this stage\, this workshop is to help empower all researchers who are interested in having more impact. \nHow can I find out about more events like this? Subscribe to our Newsletter to keep up to date with innovation news and events.
URL:https://www.bussi.org.au/event/research-to-impact-webinar/
LOCATION:Online
ATTACH;FMTTYPE=image/jpeg:https://www.bussi.org.au/wp-content/uploads/2021/01/https___cdn.evbuc_.com_images_118983877_122647666707_1_original.jpg
END:VEVENT
END:VCALENDAR