BEGIN:VCALENDAR
VERSION:2.0
PRODID:-//BusSi - ECPv5.3.1//NONSGML v1.0//EN
CALSCALE:GREGORIAN
METHOD:PUBLISH
X-WR-CALNAME:BusSi
X-ORIGINAL-URL:https://www.bussi.org.au
X-WR-CALDESC:Events for BusSi
BEGIN:VTIMEZONE
TZID:UTC
BEGIN:STANDARD
TZOFFSETFROM:+0000
TZOFFSETTO:+0000
TZNAME:UTC
DTSTART:20210101T000000
END:STANDARD
END:VTIMEZONE
BEGIN:VEVENT
DTSTART;TZID=UTC:20210309T120000
DTEND;TZID=UTC:20210309T130000
DTSTAMP:20210301T033620
CREATED:20210222T053005Z
LAST-MODIFIED:20210222T053005Z
UID:2809-1615291200-1615294800@www.bussi.org.au
SUMMARY:TURIA PITT – From Challenge Comes Change
DESCRIPTION:Join our exclusive live talk with Turia Pitt – a true champion of endurance. Discover her remarkable journey from tragedy to triumph in celebration of International Women’s Day.\nLunch with us online and learn from Turia‘s inspiring story of overcoming adversity\, facing tough challenges and running a successful business. Explore how a strong mindset\, hard work and resilience can help anyone overcome obstacles – big or small\, to make a real difference. \nTuria will share: \n\nHer biggest accomplishments – in her personal life and as a business owner\nEffective strategies to help you achieve your goals\nThe importance of stepping up to a challenge for change  \n\n\n\n\n\nTime permitting\, you will be given the opportunity to ask questions.
URL:https://www.bussi.org.au/event/turia-pitt-from-challenge-comes-change/
LOCATION:Online
ATTACH;FMTTYPE=image/png:https://www.bussi.org.au/wp-content/uploads/2021/02/Turia-Pitt-IWD-profile.png
END:VEVENT
END:VCALENDAR